BEGIN:VCALENDAR
VERSION:2.0
PRODID:-//Department of Materials Science &amp; Engineering - ECPv6.15.20//NONSGML v1.0//EN
CALSCALE:GREGORIAN
METHOD:PUBLISH
X-WR-CALNAME:Department of Materials Science &amp; Engineering
X-ORIGINAL-URL:https://mse.utoronto.ca
X-WR-CALDESC:Events for Department of Materials Science &amp; Engineering
REFRESH-INTERVAL;VALUE=DURATION:PT1H
X-Robots-Tag:noindex
X-PUBLISHED-TTL:PT1H
BEGIN:VTIMEZONE
TZID:America/Toronto
BEGIN:DAYLIGHT
TZOFFSETFROM:-0500
TZOFFSETTO:-0400
TZNAME:EDT
DTSTART:20210314T070000
END:DAYLIGHT
BEGIN:STANDARD
TZOFFSETFROM:-0400
TZOFFSETTO:-0500
TZNAME:EST
DTSTART:20211107T060000
END:STANDARD
BEGIN:DAYLIGHT
TZOFFSETFROM:-0500
TZOFFSETTO:-0400
TZNAME:EDT
DTSTART:20220313T070000
END:DAYLIGHT
BEGIN:STANDARD
TZOFFSETFROM:-0400
TZOFFSETTO:-0500
TZNAME:EST
DTSTART:20221106T060000
END:STANDARD
BEGIN:DAYLIGHT
TZOFFSETFROM:-0500
TZOFFSETTO:-0400
TZNAME:EDT
DTSTART:20230312T070000
END:DAYLIGHT
BEGIN:STANDARD
TZOFFSETFROM:-0400
TZOFFSETTO:-0500
TZNAME:EST
DTSTART:20231105T060000
END:STANDARD
END:VTIMEZONE
BEGIN:VEVENT
DTSTART;TZID=America/Toronto:20221102T080000
DTEND;TZID=America/Toronto:20221102T170000
DTSTAMP:20260420T094353
CREATED:20221102T150150Z
LAST-MODIFIED:20221102T150150Z
UID:25119-1667376000-1667408400@mse.utoronto.ca
SUMMARY:Meet the new MSE Graduate Student Association (MSEGSA) executive team
DESCRIPTION:MSEGSA members from left to right: Rita Lyu\, Aashay Wanjari\, Terry Li\, Hongchen Wang and Peter Wei (Photo: Sherry Esfahani)\nThe MSE Graduate Student Association (MSEGSA) new executive team members of the 2022-2023 academic year were recently elected.  After two years of pandemic\, MSEGSA is excited to host in-person events and boost levels of student involvement while continuing to support  graduate students in their academic\, professional and personal journeys here at MSE. \nPresident: Terry Li \nVice President: Peter Wei \nTreasurer: Rita Lyu \nUTGSU Rep: Aashay Wanjari \nStudent Welfare Rep: Hongchen Wang (Undergoing vote-of-confidence)
URL:https://mse.utoronto.ca/event/meet-the-new-mse-graduate-student-association-msegsa-executive-team/
END:VEVENT
BEGIN:VEVENT
DTSTART;VALUE=DATE:20221120
DTEND;VALUE=DATE:20221203
DTSTAMP:20260420T094353
CREATED:20221102T124421Z
LAST-MODIFIED:20221102T124421Z
UID:25108-1668931200-1669967999@mse.utoronto.ca
SUMMARY:GMCA Presents:  Establishing a Foothold
DESCRIPTION:Find out more about the event here: Establishing a Foothold – GMCA (gmcacanada.com)
URL:https://mse.utoronto.ca/event/gmca-presents-establishing-a-foothold/
END:VEVENT
BEGIN:VEVENT
DTSTART;TZID=America/Toronto:20221130T183000
DTEND;TZID=America/Toronto:20221130T210000
DTSTAMP:20260420T094353
CREATED:20221128T145012Z
LAST-MODIFIED:20221128T145012Z
UID:25251-1669833000-1669842000@mse.utoronto.ca
SUMMARY:ASM Ontario Networking and Speaker Night
DESCRIPTION:THIS WEDNESDAY: Networking Opportunity for MSE Students at a Discounted Student Price! \nCome learn about improving sustainability in the high temperature processing of abrasives and refractories with Washington Mills’ Furnace Processing Manager\, Grant Clare (B. Eng. Society in Materials Engineering 2010\, McMaster University). He will be drawing upon examples from his own work in managing plant processes. \nThis is a great opportunity to network with industry professionals in a variety of areas in Materials Engineering. Past U of T alumni have obtained job interviews and employment by networking at ASM events. \nHad trouble commuting to our previous events? For the first time\, we are hosting ASM Night in walking distance of a GO Station\, making it easy to attend as a U of T student! \nPlease register online for the Dinner & Talk Event by November 29\, 2022. \n\n\n\n\n\n\n\n\n\n\n\nNovember Event Registration\n\n\n\n\n\n\n\n\n\n\n\n\n\n\n\n\n\n\n\n\n\n\n\n\n\n\n\nImproving Sustainability in High \nTemperature Processing\n\n\n\n\n\n\n\n\n\n\n\n\n\n\n  \nThere is a consistent disconnect between the current trajectory of CO2 emissions and what climate science largely agrees is required to limit the severest effects of climate change. The lack of change can make one feel despair. High temperature processes are energy intensive and can have a significant carbon footprint but can also play a substantial role in CO2 reduction. This talk aims to describe examples of current challenges in high temperature processes and CO2 reduction initiatives that have been implemented at Washington Mills.\n\n\n\n\n\n\n\n\n\n\n\n\n\n\n\n\n\n\n\n\n\n\n\n\n\n\n\n\nGrant Clare is a Furnace Processing Manager at Washington Mills in Niagara Falls\, ON where he is responsible for the electric arc fusion of refractories and abrasives. He graduated with a Bachelor of Engineering and Society in Materials Engineering at McMaster University in 2010. He joined Washington Mills in 2014 and manages daily production\, material development and administration of an aluminium oxide recycling program.\n\n\n\n\n\n\n\n\n\n\n\n\n\n\n\n\n\n\n\n\n\n\n\n\n\n\n\n\n\n\n\n\n\n\n\n\n\nWednesday\, November 30\, 2022: Event Details\n\n\n\n\n\n\n\n\n\n\n\n\n\n\nNetworking & Appetizers: 6:30 p.m. \nDinner: 7:00 p.m.\, speaker to follow \nRegistration Fees: \nASM International Member: $40.00 \nNon-Member: $50.00 \nStudent: $30.00\n\n\n\n\n\n\n\n\nLocation: \nHoliday Inn Oakville \n590 Argus Road\, Oakville\, ON L6J 3J3 \n(Right outside Oakville GO Station) \nTTC/GO Transit Directions from Wallberg Building \nNote: Give yourself an extra 10 minutes to navigate Union Station. \nFree parking available on site. (But avoid driving out of Toronto along the QEW if possible – you will get stuck in rush hour traffic. TTC & Go Transit are your best option from Toronto.)\n\n\n\n\n\n\n\n\n\n\n\n\n\n\n\n\n\n\nEvent Registration
URL:https://mse.utoronto.ca/event/asm-ontario-networking-and-speaker-night/
END:VEVENT
END:VCALENDAR