BEGIN:VCALENDAR
VERSION:2.0
PRODID:-//Department of Materials Science &amp; Engineering - ECPv6.15.20//NONSGML v1.0//EN
CALSCALE:GREGORIAN
METHOD:PUBLISH
X-WR-CALNAME:Department of Materials Science &amp; Engineering
X-ORIGINAL-URL:https://mse.utoronto.ca
X-WR-CALDESC:Events for Department of Materials Science &amp; Engineering
REFRESH-INTERVAL;VALUE=DURATION:PT1H
X-Robots-Tag:noindex
X-PUBLISHED-TTL:PT1H
BEGIN:VTIMEZONE
TZID:America/Toronto
BEGIN:DAYLIGHT
TZOFFSETFROM:-0500
TZOFFSETTO:-0400
TZNAME:EDT
DTSTART:20210314T070000
END:DAYLIGHT
BEGIN:STANDARD
TZOFFSETFROM:-0400
TZOFFSETTO:-0500
TZNAME:EST
DTSTART:20211107T060000
END:STANDARD
BEGIN:DAYLIGHT
TZOFFSETFROM:-0500
TZOFFSETTO:-0400
TZNAME:EDT
DTSTART:20220313T070000
END:DAYLIGHT
BEGIN:STANDARD
TZOFFSETFROM:-0400
TZOFFSETTO:-0500
TZNAME:EST
DTSTART:20221106T060000
END:STANDARD
BEGIN:DAYLIGHT
TZOFFSETFROM:-0500
TZOFFSETTO:-0400
TZNAME:EDT
DTSTART:20230312T070000
END:DAYLIGHT
BEGIN:STANDARD
TZOFFSETFROM:-0400
TZOFFSETTO:-0500
TZNAME:EST
DTSTART:20231105T060000
END:STANDARD
END:VTIMEZONE
BEGIN:VEVENT
DTSTART;TZID=America/Toronto:20220524T150000
DTEND;TZID=America/Toronto:20220524T163000
DTSTAMP:20260420T050029
CREATED:20220513T180813Z
LAST-MODIFIED:20220513T180813Z
UID:23824-1653404400-1653409800@mse.utoronto.ca
SUMMARY:Distinguished Lecture Series by Prof. Nora El-Gohary – Data-Driven Analytics and AI for the Built Environment: Emerging Applications and Future Possibilities
DESCRIPTION:The Department of Civil & Mineral Engineering’s\nDistinguished Lecture Series presents:\nData-Driven Analytics and AI for the Built Environment: Emerging Applications and Future Possibilities\nProf. Nora El-Gohary (CivE PhD oT8)\nAssociate Professor\, Department of Civil and Environmental Engineering\nUniversity of Illinois at Urbana-Champaign\nFREE TO ATTEND – REGISTER ONLINE\n(an email with location information will be sent out prior to in-person event) \n \nAbstract \nData analytics and artificial intelligence (AI) are bringing unprecedented opportunities to reshape the way we design\, construct\, and operate our buildings and infrastructure systems. On one hand\, advances in digital technologies\, sensing\, and robotics are enabling new opportunities for collecting and managing data about the physical infrastructure\, the people\, and the surrounding environment. On the other hand\, advances in data analytics and AI technologies – including natural language processing and generation\, computer vision\, and machine learning – offer a new wave of opportunities for turning data into actionable insights\, advancing automation\, and enabling autonomous operations. Dr. El-Gohary will discuss recent research efforts and directions that aim to advance the science and application of data analytics and AI for sustainable and value-adding buildings and infrastructure systems\, with focus on critical applications in deterioration prediction\, compliance analytics\, and behavioral energy efficiency. This includes advanced techniques in information modeling\, information extraction from unstructured data sources\, multi-source heterogenous data fusion\, and advanced machine learning. Dr. El-Gohary will also discuss future directions in collaborative and human-centric AI including open knowledge networks and “living data and AI labs”. \nBio \nNora El-Gohary is an Associate Professor in the Department of Civil and Environmental Engineering at the University of Illinois at Urbana-Champaign. Dr. El-Gohary’s research focuses on data analytics and AI for the development and operation of sustainable buildings and infrastructure systems\, including information modeling\, information extraction\, data fusion\, machine learning\, and big data analytics. Her research has been funded by the National Science Foundation (NSF)\, Illinois Department of Transportation\, Qatar Foundation\, and Natural Sciences and Engineering Research Council (NSERC) of Canada among other funding agencies. The outcomes of her research have been published in over 140 journal and conference publications. She has received several research awards including the NSERC’s Discovery Award in 2009\, the NSF’s CAREER Award in 2013\, the Center of Advanced Study Award in 2015\, the National Center for Supercomputing Applications (NCSA) Award in 2018\, and the Institute for Sustainability\, Energy\, and Environment (iSEE) Award in 2019. Dr. El-Gohary currently serves as the Co-Chair of the Transportation Research Board’s Information Systems in Construction Management Subcommittee\, the Past Chair of the Executive Committee of the American Society of Civil Engineers (ASCE)’s Computing Division\, and the Past Chair of the Executive Committee of the ASCE’s Construction Research Council. She also currently serves as Associate Editor for the ASCE Journal of Computing in Civil Engineering.
URL:https://mse.utoronto.ca/event/distinguished-lecture-series-by-prof-nora-el-gohary-data-driven-analytics-and-ai-for-the-built-environment-emerging-applications-and-future-possibilities/
END:VEVENT
END:VCALENDAR