BEGIN:VCALENDAR
VERSION:2.0
PRODID:-//Department of Materials Science &amp; Engineering - ECPv6.15.20//NONSGML v1.0//EN
CALSCALE:GREGORIAN
METHOD:PUBLISH
X-ORIGINAL-URL:https://mse.utoronto.ca
X-WR-CALDESC:Events for Department of Materials Science &amp; Engineering
REFRESH-INTERVAL;VALUE=DURATION:PT1H
X-Robots-Tag:noindex
X-PUBLISHED-TTL:PT1H
BEGIN:VTIMEZONE
TZID:America/Toronto
BEGIN:DAYLIGHT
TZOFFSETFROM:-0500
TZOFFSETTO:-0400
TZNAME:EDT
DTSTART:20220313T070000
END:DAYLIGHT
BEGIN:STANDARD
TZOFFSETFROM:-0400
TZOFFSETTO:-0500
TZNAME:EST
DTSTART:20221106T060000
END:STANDARD
BEGIN:DAYLIGHT
TZOFFSETFROM:-0500
TZOFFSETTO:-0400
TZNAME:EDT
DTSTART:20230312T070000
END:DAYLIGHT
BEGIN:STANDARD
TZOFFSETFROM:-0400
TZOFFSETTO:-0500
TZNAME:EST
DTSTART:20231105T060000
END:STANDARD
BEGIN:DAYLIGHT
TZOFFSETFROM:-0500
TZOFFSETTO:-0400
TZNAME:EDT
DTSTART:20240310T070000
END:DAYLIGHT
BEGIN:STANDARD
TZOFFSETFROM:-0400
TZOFFSETTO:-0500
TZNAME:EST
DTSTART:20241103T060000
END:STANDARD
END:VTIMEZONE
BEGIN:VEVENT
DTSTART;TZID=America/Toronto:20230120T180000
DTEND;TZID=America/Toronto:20230120T210000
DTSTAMP:20260422T032520
CREATED:20230112T205654Z
LAST-MODIFIED:20230112T205654Z
UID:25350-1674237600-1674248400@mse.utoronto.ca
SUMMARY:MIC and ECC Present: Speed Interviews
DESCRIPTION:Materials Industry Club (MIC) and Engineering Career Center (ECC) will be hosting a speed interview event.Engineers from companies such as Peel Plastics\, Litens Automotive\, Magna International\, and CEP Forensic will be on campus to interview and network with MSE students! Sign up now via the link below to reserve your interview spot! This event is only open to students enrolled in MSE program art UofT. \nSpots are limited\, so sign up ASAP through: https://forms.gle/zGWFJMV9CB5H5pBw5The form officially closes January 14th.
URL:https://mse.utoronto.ca/event/mic-and-ecc-present-speed-interviews/
END:VEVENT
END:VCALENDAR