BEGIN:VCALENDAR
VERSION:2.0
PRODID:-//Department of Materials Science &amp; Engineering - ECPv6.15.20//NONSGML v1.0//EN
CALSCALE:GREGORIAN
METHOD:PUBLISH
X-WR-CALNAME:Department of Materials Science &amp; Engineering
X-ORIGINAL-URL:https://mse.utoronto.ca
X-WR-CALDESC:Events for Department of Materials Science &amp; Engineering
REFRESH-INTERVAL;VALUE=DURATION:PT1H
X-Robots-Tag:noindex
X-PUBLISHED-TTL:PT1H
BEGIN:VTIMEZONE
TZID:America/Toronto
BEGIN:DAYLIGHT
TZOFFSETFROM:-0500
TZOFFSETTO:-0400
TZNAME:EDT
DTSTART:20210314T070000
END:DAYLIGHT
BEGIN:STANDARD
TZOFFSETFROM:-0400
TZOFFSETTO:-0500
TZNAME:EST
DTSTART:20211107T060000
END:STANDARD
BEGIN:DAYLIGHT
TZOFFSETFROM:-0500
TZOFFSETTO:-0400
TZNAME:EDT
DTSTART:20220313T070000
END:DAYLIGHT
BEGIN:STANDARD
TZOFFSETFROM:-0400
TZOFFSETTO:-0500
TZNAME:EST
DTSTART:20221106T060000
END:STANDARD
BEGIN:DAYLIGHT
TZOFFSETFROM:-0500
TZOFFSETTO:-0400
TZNAME:EDT
DTSTART:20230312T070000
END:DAYLIGHT
BEGIN:STANDARD
TZOFFSETFROM:-0400
TZOFFSETTO:-0500
TZNAME:EST
DTSTART:20231105T060000
END:STANDARD
END:VTIMEZONE
BEGIN:VEVENT
DTSTART;TZID=America/Toronto:20220425T080000
DTEND;TZID=America/Toronto:20220425T170000
DTSTAMP:20260420T114002
CREATED:20220425T131624Z
LAST-MODIFIED:20220425T131624Z
UID:23688-1650873600-1650906000@mse.utoronto.ca
SUMMARY:MSE Graduate Seminar: Structure\, order\, and extracopularity
DESCRIPTION:Title: Structure\, order\, and extracopularity\n\n\n\nPresenter: John Camkiran\, (PhD candidate\, 2nd seminar)\nSupervisor: Prof. G. Hibbard\n \nAbstract: \n\n\nOrder is an aspect of a system’s structure that holds much insight. Despite the fact that many physical systems are well modeled as collections of interacting particles\, a general approach to quantifying the absolute degree of order immediately surrounding a particle has yet to be described. Thus motivated\, this seminar presents a quantity E that captures the amount of pairwise informational redundancy among the bonds formed by a particle. Particles with larger E have less diversity in bond angles and thus simpler neighborhoods. We demonstrate that E is\, in principle\, able to distinguish a wide range of structures and conjecture that it is maximized by the icosahedral geometry under the constraint of equal sphere packing. An algorithm for computing E is described and results from its application to the structural characterization of crystals and glasses are discussed. These findings are generally consistent with existing knowledge on the structure of such systems. We compare E to the Steinhardt order parameter Q6 and polyhedral template matching (PTM). We observe that E has resolution comparable to Q6 and robustness similar to PTM\, despite being much simpler than the former and far more informative than the latter.
URL:https://mse.utoronto.ca/event/mse-graduate-seminar-structure-order-and-extracopularity/
END:VEVENT
END:VCALENDAR