BEGIN:VCALENDAR
VERSION:2.0
PRODID:-//Department of Materials Science &amp; Engineering - ECPv6.15.20//NONSGML v1.0//EN
CALSCALE:GREGORIAN
METHOD:PUBLISH
X-ORIGINAL-URL:https://mse.utoronto.ca
X-WR-CALDESC:Events for Department of Materials Science &amp; Engineering
REFRESH-INTERVAL;VALUE=DURATION:PT1H
X-Robots-Tag:noindex
X-PUBLISHED-TTL:PT1H
BEGIN:VTIMEZONE
TZID:America/Toronto
BEGIN:DAYLIGHT
TZOFFSETFROM:-0500
TZOFFSETTO:-0400
TZNAME:EDT
DTSTART:20210314T070000
END:DAYLIGHT
BEGIN:STANDARD
TZOFFSETFROM:-0400
TZOFFSETTO:-0500
TZNAME:EST
DTSTART:20211107T060000
END:STANDARD
BEGIN:DAYLIGHT
TZOFFSETFROM:-0500
TZOFFSETTO:-0400
TZNAME:EDT
DTSTART:20220313T070000
END:DAYLIGHT
BEGIN:STANDARD
TZOFFSETFROM:-0400
TZOFFSETTO:-0500
TZNAME:EST
DTSTART:20221106T060000
END:STANDARD
BEGIN:DAYLIGHT
TZOFFSETFROM:-0500
TZOFFSETTO:-0400
TZNAME:EDT
DTSTART:20230312T070000
END:DAYLIGHT
BEGIN:STANDARD
TZOFFSETFROM:-0400
TZOFFSETTO:-0500
TZNAME:EST
DTSTART:20231105T060000
END:STANDARD
END:VTIMEZONE
BEGIN:VEVENT
DTSTART;TZID=America/Toronto:20220303T120000
DTEND;TZID=America/Toronto:20220303T120000
DTSTAMP:20260422T070141
CREATED:20220228T133117Z
LAST-MODIFIED:20220228T133255Z
UID:23362-1646308800-1646308800@mse.utoronto.ca
SUMMARY:MSE Graduate Seminar: Atomic Structure of Thin films in the Cesium-Lead-Bromine System
DESCRIPTION:Title: Atomic Structure of Thin films in the Cesium-Lead-Bromine System\n\nPresenter: Shivani Varshney (PhD candidate\, 2nd seminar)\nSupervisor: Prof.  J. Nogami\n \n\nAbstract: \n\n\nCesium lead bromide (CsPbBr3) perovskite nanocrystals have a promising future in the field of optoelectronics. Their potential applications are primarily in improving the efficiency of solar cells and light emitting diodes (LEDs). The growing interest in perovskites motivated us to study the growth of the two binary constituents\, Cesium bromide (CsBr) and Lead bromide (PbBr2) on a metallic substrate\, as well as the results of co-deposition to produce the perovskite. In this study\, ultra-thin films have been grown using thermal evaporation\, studied using low energy electron diffraction (LEED)\, scanning tunnelling microscopy (STM) and density functional theory (DFT). The observation of many different phases shows the challenge in producing high quality films in this system. \n\n 
URL:https://mse.utoronto.ca/event/mse-graduate-seminar-atomic-structure-of-thin-films-in-the-cesium-lead-bromine-system/
END:VEVENT
END:VCALENDAR